BEGIN:VCALENDAR
VERSION:2.0
PRODID:-//King Crop Insurance - ECPv6.15.17.1//NONSGML v1.0//EN
CALSCALE:GREGORIAN
METHOD:PUBLISH
X-ORIGINAL-URL:https://www.kingcrop.com
X-WR-CALDESC:Events for King Crop Insurance
REFRESH-INTERVAL;VALUE=DURATION:PT1H
X-Robots-Tag:noindex
X-PUBLISHED-TTL:PT1H
BEGIN:VTIMEZONE
TZID:UTC
BEGIN:STANDARD
TZOFFSETFROM:+0000
TZOFFSETTO:+0000
TZNAME:UTC
DTSTART:20260101T000000
END:STANDARD
END:VTIMEZONE
BEGIN:VEVENT
DTSTART;VALUE=DATE:20270317
DTEND;VALUE=DATE:20270318
DTSTAMP:20260419T161602
CREATED:20230619T155114Z
LAST-MODIFIED:20230619T155114Z
UID:10000059-1805241600-1805327999@www.kingcrop.com
SUMMARY:Production History Due - Potatoes
DESCRIPTION:
URL:https://www.kingcrop.com/event/production-history-due-potatoes/2027-03-17/
LOCATION:Delaware
END:VEVENT
END:VCALENDAR