BEGIN:VCALENDAR
VERSION:2.0
PRODID:-//King Crop Insurance - ECPv6.15.17.1//NONSGML v1.0//EN
CALSCALE:GREGORIAN
METHOD:PUBLISH
X-ORIGINAL-URL:https://www.kingcrop.com
X-WR-CALDESC:Events for King Crop Insurance
REFRESH-INTERVAL;VALUE=DURATION:PT1H
X-Robots-Tag:noindex
X-PUBLISHED-TTL:PT1H
BEGIN:VTIMEZONE
TZID:UTC
BEGIN:STANDARD
TZOFFSETFROM:+0000
TZOFFSETTO:+0000
TZNAME:UTC
DTSTART:20220101T000000
END:STANDARD
END:VTIMEZONE
BEGIN:VEVENT
DTSTART;VALUE=DATE:20230930
DTEND;VALUE=DATE:20231001
DTSTAMP:20260420T102509
CREATED:20230619T154914Z
LAST-MODIFIED:20230619T154914Z
UID:10000040-1696032000-1696118399@www.kingcrop.com
SUMMARY:Sales Closing Deadline - Small Grains
DESCRIPTION:
URL:https://www.kingcrop.com/event/sales-closing-deadline-small-grains/2023-09-30/
LOCATION:Delaware
END:VEVENT
END:VCALENDAR